BEGIN:VCALENDAR
METHOD:PUBLISH
PRODID:Data::ICal 0.13
VERSION:2.0
BEGIN:VEVENT
DESCRIPTION:Click here or the image above to purchase tickets!
DTSTAMP:20260420T134331Z
DTSTART;TZID=America/New_York:20120310T010000
DTEND;TZID=America/New_York:20120310T040000
LOCATION:
SUMMARY:Young Jeezy @ Bogart&#8217;s
UID:2174357-1331341200-1331352000
END:VEVENT
END:VCALENDAR
