BEGIN:VCALENDAR
METHOD:PUBLISH
PRODID:Data::ICal 0.13
VERSION:2.0
BEGIN:VEVENT
DESCRIPTION:Wild Out Wednesdays Presents the Spring 2011 Pole Party Contest!

Aqua Nightlife Swag, 1752 Seymour Avenue
June 1st-July 6th 
Each &amp; every Wednesday night through the month of June, Cincinnati&#039;s sexiest ladies will compete to win a weekly prize. Then, the beginning of July, the 5 weekly winners will come together to compete to win the $1,000 grand cash prize &amp; the swag to be recognized as Cincity&#039;s &quot;Queen of the Pole!&quot;

Do you have the skills to pay the bills? Call 513-381-7247 or text &quot;AQUA&quot; to 80185 for details!

Free, private lessons provided by Pole Kittens on Wednesdays from 9:30pm - 10:30pm at AQUA. Check out the Pole Kittens YouTube video!
DTSTAMP:20260425T222728Z
DTSTART;TZID=America/New_York:20110602T013000
DTEND;TZID=America/New_York:20110706T050000
LOCATION:
SUMMARY:Wild Out Wednesdays: Pole Party Contest
UID:2174321-1306978200-1309928400
END:VEVENT
END:VCALENDAR
