BEGIN:VCALENDAR
METHOD:PUBLISH
PRODID:Data::ICal 0.13
VERSION:2.0
BEGIN:VEVENT
DESCRIPTION:
DTSTAMP:20260421T004421Z
DTSTART;TZID=America/New_York:20170926T000000
DTEND;TZID=America/New_York:20170926T000000
LOCATION:
SUMMARY:Tank
UID:2553212-1506384000-1506384000
END:VEVENT
END:VCALENDAR
