BEGIN:VCALENDAR
METHOD:PUBLISH
PRODID:Data::ICal 0.13
VERSION:2.0
BEGIN:VEVENT
DESCRIPTION:Swisher Sweets Artist Project Pack Night Thursday, July 14th @ Northside Yacht Club 8p feat: Buggs Tha Rocka, Lantana Easy &amp; NUK hosted by WIZF DJ JDOUGH RSVP here! http://bit.ly/SwisherCincy #SwisherCincy\n\nThe event is free and open to the public 21+. RSVP is encouraged for an elevated experience with exclusive gear! Doors open at 8 p.m. and the first 50 people who arrive will receive an VIP meet and greet with the artists and an autographed T-shirt!
DTSTAMP:20260423T155124Z
DTSTART;TZID=America/New_York:20160714T200000
DTEND;TZID=America/New_York:20160714T230000
LOCATION:4231 Spring Grove Ave.
SUMMARY:Swisher Sweets Artist Project Pack Night
UID:2296107-1468526400-1468537200
END:VEVENT
END:VCALENDAR
