BEGIN:VCALENDAR
METHOD:PUBLISH
PRODID:Data::ICal 0.13
VERSION:2.0
BEGIN:VEVENT
DESCRIPTION:This September on Saturday, September 23rd join the St. Jude Walk/Run to End Childhood Cancer. This family-friendly event raises funds to support the mission of St. Jude Children’s Research Hospital®, where families never receive a bill for treatment, travel, housing or food. Sign up today here \n\n&nbsp;\n\n&nbsp;
DTSTAMP:20260419T153254Z
DTSTART;TZID=America/New_York:20170923T080000
DTEND;TZID=America/New_York:20170923T080000
LOCATION:5057 Wooster Road\, Cincinnati\, Ohio
SUMMARY:St. Jude Walk/Run to End Childhood Cancer
UID:2553207-1506153600-1506153600
END:VEVENT
END:VCALENDAR
