BEGIN:VCALENDAR
METHOD:PUBLISH
PRODID:Data::ICal 0.13
VERSION:2.0
BEGIN:VEVENT
DESCRIPTION:The 4th of July weekend is going to be lit all on 71 North and South! Turn up WIZ for all of 4th of July for the Spindependence Showdown Mixshow sponsored by Epic Records. Some of Ohio&#039;s best DJs playing your soundtrack for the holiday! Check out the schedule below: \n\n\n[caption id=&quot;attachment_3293511&quot; align=&quot;aligncenter&quot; width=&quot;700&quot;] Source: Urban 1 / Urban 1[/caption]\n\n[caption id=&quot;attachment_3293510&quot; align=&quot;aligncenter&quot; width=&quot;700&quot;] Source: Urban 1 / Urban 1[/caption]\n\n[caption id=&quot;attachment_3293509&quot; align=&quot;aligncenter&quot; width=&quot;700&quot;] Source: Urban 1 / Urban 1[/caption]
DTSTAMP:20260420T183236Z
DTSTART;TZID=America/New_York:20230703T000000
DTEND;TZID=America/New_York:20230705T000000
LOCATION:
SUMMARY:Spindependence Showdown Mixshow
UID:3293508-1688342400-1688515200
END:VEVENT
END:VCALENDAR
