BEGIN:VCALENDAR
METHOD:PUBLISH
PRODID:Data::ICal 0.13
VERSION:2.0
BEGIN:VEVENT
DESCRIPTION:Catch the Wiz crew at Metro PCS  3400 Glenmore Ave. this weekend for free gas Saturday&#039;s!  We’re hooking you up at the pump and on your wireless game! Get two 4g lte smartphones, free for a limited time when you switch to Metro PCS! Plus - this Saturday from 12n-2p 101.1 the Wiz and Metro PCS will be giving away $25 gas cards to the first 100 customers that stop by Metro PCS at 3400 Glenmore Ave.! Metro PCS… wireless figured out!  \n\n[caption id=&quot;attachment_2283897&quot; align=&quot;alignnone&quot; width=&quot;300&quot;] Source: Metro PCS/I-One / Metro PCS / I-One[/caption]
DTSTAMP:20260421T023918Z
DTSTART;TZID=America/New_York:20160625T120000
DTEND;TZID=America/New_York:20160625T140000
LOCATION:3400 Glenmore Ave.
SUMMARY:Metro PCS FREE GAS SATURDAY!
UID:2283895-1466856000-1466863200
END:VEVENT
END:VCALENDAR
