BEGIN:VCALENDAR
METHOD:PUBLISH
PRODID:Data::ICal 0.13
VERSION:2.0
BEGIN:VEVENT
DESCRIPTION:The Washington, D.C. Martin Luther King, Jr. National Memorial Project Foundation&#039;s leadership has officially announced the ceremonial dedication of the Martin Luther King, Jr. Memorial to be held on Sunday, October 16.

The Dedication program will begin at 9 a.m. in West Potomac Park with President Barack Obama, Secretary of the Interior Ken Salazar, members of the King Family, and civil rights leaders expected to participate.

The Dedication, originally planned for August 28, the 48th anniversary of the March on Washington and Dr. King’s historic “I Have a Dream” speech, was postponed due to Hurricane Irene.
 
LIMITED RESERVED SEATING WILL BE AVAILABLE INSIDE THE FORECOURT OF THE MEMORIAL 
WEST POTOMAC PARK VIEWING OPEN TO THE GENERAL PUBLIC 
NO TICKETS REQUIRED 
 
Join us as we continue the legacy and liberate the new generation as well as reach back and honor those who assisted Dr. Martin Luther King, Jr. in his endeavors, his purpose and his dream.

RELATED INFORMATION/UPDATES:

Dedication Day Official Press Release

MLK Memorial Official Website

Are You Ready for the MLK Memorial Trip to D.C.?

MLK Memorial Takes Shape on National Mall

Bernice King Discusses the New MLK Memorial

View Radio One Cincinnati&#039;s most recent visit to the Martin Luther King, Jr. Memorial site during our recent trip to Washington, D.C. with Lincoln Ware and friends in the coverage list provided below.

EXCLUSIVE MLK MEMORIAL COVERAGE:

	MLK Memorial: Lincoln Ware Speaks from the Heart
	MLK Memorial: The Winners Circle
	MLK Memorial: Keeping the Dream Alive on The Lincoln Ware Show
	MLK Memorial: In the Presence of President Barack Obama

 
FOLLOW US ON TWITTER - @1011WIZF 
JOIN THE OFFICIAL WIZNATION FACEBOOK FAN PAGE 
DOWNLOAD THE FREE WIZ MOBILE APP 
CLAIM YOUR FREE PHONE NOW
DTSTAMP:20260423T055532Z
DTSTART;TZID=America/New_York:20111016T130000
DTEND;TZID=America/New_York:20111016T160000
LOCATION:
SUMMARY:Martin Luther King, Jr. Memorial Dedication &amp; Celebration
UID:2174350-1318770000-1318780800
END:VEVENT
END:VCALENDAR
