BEGIN:VCALENDAR
METHOD:PUBLISH
PRODID:Data::ICal 0.13
VERSION:2.0
BEGIN:VEVENT
DESCRIPTION:The Legends of Hip Hop Tour is coming, April 8, 2011 to the Cintas Center! 
Win the VIP Package that includes 2 front row seats and a meet and greet with the artists. To register to win, click here.
DTSTAMP:20260420T083037Z
DTSTART;TZID=America/New_York:20110409T000000
DTEND;TZID=America/New_York:20110409T030000
LOCATION:
SUMMARY:Legends of Hip Hop Tour
UID:2174311-1302307200-1302318000
END:VEVENT
END:VCALENDAR
