BEGIN:VCALENDAR
METHOD:PUBLISH
PRODID:Data::ICal 0.13
VERSION:2.0
BEGIN:VEVENT
DESCRIPTION:
DTSTAMP:20260419T180749Z
DTSTART;TZID=America/New_York:20190504T000000
DTEND;TZID=America/New_York:20190504T000000
LOCATION:116 W JEFFERSON ST LOUISVILLE\, KY 40202
SUMMARY:Gucci Mane
UID:2630816-1556928000-1556928000
END:VEVENT
END:VCALENDAR
