BEGIN:VCALENDAR
METHOD:PUBLISH
PRODID:Data::ICal 0.13
VERSION:2.0
BEGIN:VEVENT
DESCRIPTION:THIS EVENT HAS BEEN CANCELED.

Doors open at 7pm, fight starts at 8pm. 
Get your tickets at randrpromotions.net.
DTSTAMP:20260426T014723Z
DTSTART;TZID=America/New_York:20110219T000000
DTEND;TZID=America/New_York:20110219T050000
LOCATION:
SUMMARY:Gladiators III Boxing Series &#8211; CANCELED
UID:2174304-1298073600-1298091600
END:VEVENT
END:VCALENDAR
