BEGIN:VCALENDAR
METHOD:PUBLISH
PRODID:Data::ICal 0.13
VERSION:2.0
BEGIN:VEVENT
DESCRIPTION:March
20th- Roxy’s Live
27th- Level Nightlife 

April
3rd- Level Nightlife
10th- Brownstone
17th-Roxy’s Live
24th- Brownstone 

Roxy&#039;s - 11473 Chester Rd, Cincinnati, OH 45246

Level Nightclub -  435 Elm St Cincinnati, OH 45202
DTSTAMP:20260419T224328Z
DTSTART;TZID=America/New_York:20150320T144600
DTEND;TZID=America/New_York:20150424T144600
LOCATION:
SUMMARY:Friday Frenzy!
UID:2174497-1426862760-1429886760
END:VEVENT
END:VCALENDAR
