BEGIN:VCALENDAR
METHOD:PUBLISH
PRODID:Data::ICal 0.13
VERSION:2.0
BEGIN:VEVENT
DESCRIPTION:Hit up the WIZ CREW at Boost Mobile and BOOST your summer with awesome prizes!\n\n5/6 \n4p-6p	\nWarsaw Wireless    \n3417 Warsaw Ave.	\nCincinnati,OH 45205\n\n[caption id=&quot;attachment_2247816&quot; align=&quot;alignnone&quot; width=&quot;300&quot;] Source: Boost Mobile / Boost Mobile[/caption]
DTSTAMP:20260421T021749Z
DTSTART;TZID=America/New_York:20160506T160000
DTEND;TZID=America/New_York:20160506T180000
LOCATION:3417 Warsaw Wireless
SUMMARY:Boost Your Summer
UID:2247826-1462550400-1462557600
END:VEVENT
END:VCALENDAR
