BEGIN:VCALENDAR
METHOD:PUBLISH
PRODID:Data::ICal 0.13
VERSION:2.0
BEGIN:VEVENT
DESCRIPTION:Hit up the WIZ CREW at Boost Mobile and BOOST your summer with awesome prizes!\n\n6/4	\n3p-5p	\nUnlimited Mobile Hamilton \n2304 Dixie Highway	\nHamilton, OH 45015\n[caption id=&quot;attachment_2247816&quot; align=&quot;alignnone&quot; width=&quot;300&quot;] Source: Boost Mobile / Boost Mobile[/caption]
DTSTAMP:20260421T004442Z
DTSTART;TZID=America/New_York:20160604T150000
DTEND;TZID=America/New_York:20160604T170000
LOCATION:2304 Dixie Hwy.
SUMMARY:Boost Your Summer
UID:2247840-1465052400-1465059600
END:VEVENT
END:VCALENDAR
