BEGIN:VCALENDAR
METHOD:PUBLISH
PRODID:Data::ICal 0.13
VERSION:2.0
BEGIN:VEVENT
DESCRIPTION:Hit up the WIZ CREW at Boost Mobile and BOOST your summer with awesome prizes!\n\n5/7	\n4p-6p	\nAllied Communications 		\n8400 Reading Rd. 	        \nCincinnati, OH 45215\n[caption id=&quot;attachment_2247816&quot; align=&quot;alignnone&quot; width=&quot;300&quot;] Source: Boost Mobile / Boost Mobile[/caption]
DTSTAMP:20260421T022703Z
DTSTART;TZID=America/New_York:20160507T160000
DTEND;TZID=America/New_York:20160507T180000
LOCATION:8400 Reading Rd.
SUMMARY:Boost Your Summer
UID:2247828-1462636800-1462644000
END:VEVENT
END:VCALENDAR
