BEGIN:VCALENDAR
METHOD:PUBLISH
PRODID:Data::ICal 0.13
VERSION:2.0
BEGIN:VEVENT
DESCRIPTION:BEYONCE FLYAWAY!\n\n101.1 The Wiz &amp; Rightway Automotive want to send you to Chicago for the  Formation World Tour Memorial Weekend! One lucky winner will score a flight to Chicago, hotel accommodations, and Memorial Day weekend Beyoncé tickets! Stop by a formation ticket stop at Rightway Automotive – where you can upgrade your status with Rightway’s 2009 or newer program.\n\n3 Chances to WIN!\n\nCatch 101.1 the WIZ at these Rightway Automotive Beyoncé Formations ticket stops! The ONLY way to WIN is to show up and register on-site!\n\nLocations below:\n\nRightway Automotive Tue, May 3rd, 5-7pm 8647 Colerain Ave.\n\nRightway Automotive  Sat, May 7th, 1-3pm 6494 Dixie Hwy. Fairfield\n\nRightway Automotive Wed, May 11th, 5-7pm 6494 Dixie Hwy. Fairfield
DTSTAMP:20260420T232957Z
DTSTART;TZID=America/New_York:20160511T170000
DTEND;TZID=America/New_York:20160511T190000
LOCATION:6494 Dixie Hwy\, Fairfield
SUMMARY:Beyoncé FLYAWAY Ticket Stop Rightway Automotive May 11th 5p-7p
UID:2247720-1462986000-1462993200
END:VEVENT
END:VCALENDAR
