BEGIN:VCALENDAR
METHOD:PUBLISH
PRODID:Data::ICal 0.13
VERSION:2.0
BEGIN:VEVENT
DESCRIPTION:PUFF DADDY REUNITES LIL’ KIM, MASE, FAITH EVANS,\n\nMARIO WINANS, 112, TOTAL, CARL THOMAS, THE LOX AND FRENCH MONTANA\nFOR THE FIRST-EVER BAD BOY FAMILY REUNION TOUR\n\nSATURDAY, SEPTEMBER 17TH\nU.S. BANK ARENA\n\nCINCINNATI, OH (May 16, 2016) – Consistently at the forefront of music and entertainment for the past two decades, SEAN ‘DIDDY’ COMBS AKA PUFF DADDY continues his reign of excellence, today announcing the BAD BOY FAMILY REUNION TOUR. Kicking off August 25th in Columbus, OH, PUFF DADDY, LIL’ KIM, MASE, FAITH EVANS, MARIO WINANS, 112, TOTAL, CARL THOMAS, THE LOX and FRENCH MONTANA will take the stage to perform hit after hit, cementing Bad Boy’s place as the driving force behind hip hop and R&amp;B music and culture. Setting the bar for the best of live production and music experiences, Puff Daddy brings together these iconic artists due to overwhelming fan demand for a must-see moment in hip hop history. The tour will make a stop in Cincinnati, OH on Friday, August 26 at U.S. Bank Arena.\n\nTickets go on sale to the public beginning at 10:00am on Friday, May 20th at www.Livenation.com, www.Ticketmaster.com, the U.S. Bank Arena box office and all Ticketmaster outlets. Charge by phone at 1.800.745.3000. A Citi cardmember pre-sale begins Wednesday, May 18th at 10:00 a.m. through Thursday, May 19th at 10:00 p.m. through Citi&#039;s Private Pass Program. For complete pre-sale details, visit www.citiprivatepass.com.\n“This isn’t just a concert– this is a moment in hip hop and R&amp;B history.” said Sean “Diddy” Combs aka Puff Daddy. “The family and I are so excited to welcome fans into this once in a lifetime experience. This tour is 20 years in the making, and is a celebration of the hits and the Bad Boy lifestyle. The Bad Boy Family has set the standard for concert excellence, and this tour will be a testament to that!”
DTSTAMP:20260421T042025Z
DTSTART;TZID=America/New_York:20160917T200000
DTEND;TZID=America/New_York:20160917T230000
LOCATION:
SUMMARY:Bad Boy Family Reunion Tour U.S. Bank Arena
UID:2267466-1474142400-1474153200
END:VEVENT
END:VCALENDAR
