BEGIN:VCALENDAR
METHOD:PUBLISH
PRODID:Data::ICal 0.13
VERSION:2.0
BEGIN:VEVENT
DESCRIPTION:[caption id=&quot;attachment_2263965&quot; align=&quot;alignnone&quot; width=&quot;300&quot;] Source: SORTA / SORTA[/caption]\n\n\nJoin 101.1 the WIZ 6/16/16 for National Dump the Pump Day!  \n10:00am-11:30am\nBus Stop:  Reading Road &amp; Oak Avenue\nBuggs tha Rocka LIVE!\n (Small print) Go to www.METRO61616.com to pledge to ride METRO on #61616 and receive\na FREE Day Pass!
DTSTAMP:20260420T231401Z
DTSTART;TZID=America/New_York:20160616T100000
DTEND;TZID=America/New_York:20160616T113000
LOCATION:
SUMMARY:#61616 Dump the Pump Day w/ Metro
UID:2263963-1466071200-1466076600
END:VEVENT
END:VCALENDAR
