BEGIN:VCALENDAR
METHOD:PUBLISH
PRODID:Data::ICal 0.13
VERSION:2.0
BEGIN:VEVENT
DESCRIPTION:Hit up the WIZ CREW at Boost Mobile and BOOST your summer with awesome prizes!\n\n6/3	\n4p-6p	\nI-Wireless Glenway	\n4332 Glenway Ave.	\nCincinnati, OH 45205\n\n[caption id=&quot;attachment_2247816&quot; align=&quot;alignnone&quot; width=&quot;300&quot;] Source: Boost Mobile / Boost Mobile[/caption]
DTSTAMP:20260423T123624Z
DTSTART;TZID=America/New_York:20160603T160000
DTEND;TZID=America/New_York:20160603T180000
LOCATION:4332 Glenway Ave.
SUMMARY:Boost Your Summer
UID:2247837-1464969600-1464976800
END:VEVENT
END:VCALENDAR
