BEGIN:VCALENDAR
METHOD:PUBLISH
PRODID:Data::ICal 0.13
VERSION:2.0
BEGIN:VEVENT
DESCRIPTION:Back by popular demand - The Princess Party, The Super Hero Party, and the Children’s Zone - a special place where our little geniuses can create their own books.

For the parents -  the writing workshops are back, including how to start your own blog, tips on self publishing, and more!
DTSTAMP:20260424T162005Z
DTSTART;TZID=America/New_York:20120303T150000
DTEND;TZID=America/New_York:20120303T220000
LOCATION:
SUMMARY:2012 Book Fair
UID:2174356-1330786800-1330812000
END:VEVENT
END:VCALENDAR
